BEGIN:VCALENDAR
VERSION:2.0
PRODID:-//Medicine Creek Winery - ECPv6.15.20//NONSGML v1.0//EN
CALSCALE:GREGORIAN
METHOD:PUBLISH
X-WR-CALNAME:Medicine Creek Winery
X-ORIGINAL-URL:https://www.medicinecreekwinery.com
X-WR-CALDESC:Events for Medicine Creek Winery
REFRESH-INTERVAL;VALUE=DURATION:PT1H
X-Robots-Tag:noindex
X-PUBLISHED-TTL:PT1H
BEGIN:VTIMEZONE
TZID:UTC
BEGIN:STANDARD
TZOFFSETFROM:+0000
TZOFFSETTO:+0000
TZNAME:UTC
DTSTART:20230101T000000
END:STANDARD
END:VTIMEZONE
BEGIN:VEVENT
DTSTART;TZID=UTC:20240511T150000
DTEND;TZID=UTC:20240511T160000
DTSTAMP:20260422T044513
CREATED:20240403T133004Z
LAST-MODIFIED:20240403T133004Z
UID:586-1715439600-1715443200@www.medicinecreekwinery.com
SUMMARY:Moms & Mimosas
DESCRIPTION:Join us May 11th from 3:00pm to 4:00pm for our Charcuterie Workshop. \nDisposable board: $90\nShared disposable: $115\nWooden board: $115\nShared Wooden board: $135
URL:https://www.medicinecreekwinery.com/calendar/moms-mimosas-2/
LOCATION:WA
ATTACH;FMTTYPE=image/jpeg:https://www.medicinecreekwinery.com/wp-content/uploads/2024/04/moms-n-mimosas.jpg
END:VEVENT
BEGIN:VEVENT
DTSTART;TZID=UTC:20240511T170000
DTEND;TZID=UTC:20240511T200000
DTSTAMP:20260422T044513
CREATED:20240422T133016Z
LAST-MODIFIED:20240422T133016Z
UID:603-1715446800-1715457600@www.medicinecreekwinery.com
SUMMARY:Mark Lewis Quartet
DESCRIPTION:Sat May 11\nWine & Jazz
URL:https://www.medicinecreekwinery.com/calendar/mark-lewis-quartet/
LOCATION:WA
ATTACH;FMTTYPE=image/jpeg:https://www.medicinecreekwinery.com/wp-content/uploads/2024/04/mark-lewis-quartet-scaled.jpg
END:VEVENT
END:VCALENDAR